BEGIN:VCALENDAR
VERSION:2.0
PRODID:-//eventon.com NONSGML v1.0//EN
CALSCALE:GREGORIAN
METHOD:PUBLISH
BEGIN:VEVENT
UID:69eaf7076d125
DTSTAMP:20260424T045223Z
DTSTART:20190406
DTEND:20190407
LOCATION:
SUMMARY:Calgary Group 19 Integrative Chakra Therapy Levels 10 and 11
DESCRIPTION:Dr. Richard Jelusich's Calgary students will be studying level 
 10 Attachments Part 1 (Points of Possession) and level 11 Attachments Part 
 2 (Advanced Points of Possession) of Integrative Chakra Therapy® Training.
  Attachments Part l – (Points of Possession) Tube attachments are energet
 ic connections between people and are mostly benign. However\, [..]\nhttps:
 //lightnews.org/events/calgary-group-19-integrative-chakra-therapy-levels-1
 0-and-11/
URL:https://lightnews.org/events/calgary-group-19-integrative-chakra-therapy-levels-10-and-11/
END:VEVENT
END:VCALENDAR