BEGIN:VCALENDAR
VERSION:2.0
PRODID:-//eventon.com NONSGML v1.0//EN
CALSCALE:GREGORIAN
METHOD:PUBLISH
BEGIN:VEVENT
UID:69eb120187df8
DTSTAMP:20260424T064729Z
DTSTART:20190706
DTEND:20190707
LOCATION:
SUMMARY:Calgary Group 19 Integrative Chakra Therapy Levels 12 and 13
DESCRIPTION:Calgary students will be studying level 12 Axioltonal Alignment
  and level 13 Working with Infants\,  Children and Seniors. Axialtonal Alig
 nment - Chakras\,  among the many dimensions\,  can be likened to the holes
  in sheets of binder paper.  The pre-punched paper sheets must all be alig
 ned in order to easily be[..]\nhttps://lightnews.org/events/calgary-group-1
 9-integrative-chakra-therapy-levels-12-and-13/
URL:https://lightnews.org/events/calgary-group-19-integrative-chakra-therapy-levels-12-and-13/
END:VEVENT
END:VCALENDAR