BEGIN:VCALENDAR
VERSION:2.0
PRODID:-//eventon.com NONSGML v1.0//EN
CALSCALE:GREGORIAN
METHOD:PUBLISH
BEGIN:VEVENT
UID:69eb2d273b13b
DTSTAMP:20260424T084319Z
DTSTART:20190622
DTEND:20190623
LOCATION:
SUMMARY:Calgary Group 18 Integrative Chakra Therapy Levels 14 and 15
DESCRIPTION:Calgary students will be studying level 14 Shushumna and level
  15 Activation Meditation. The Shushumna - The main column of light that ra
 diates up and down through the spinal colum\,  through the lenses of the ch
 akras\,  is called the Shushumna.  In this workshop\,  you will learn abou
 t the Shushumna\,  how it[..]\nhttps://lightnews.org/events/calgary-group-1
 8-integrative-chakra-therapy-levels-14-and-15/
URL:https://lightnews.org/events/calgary-group-18-integrative-chakra-therapy-levels-14-and-15/
END:VEVENT
END:VCALENDAR