BEGIN:VCALENDAR
VERSION:2.0
PRODID:-//eventon.com NONSGML v1.0//EN
CALSCALE:GREGORIAN
METHOD:PUBLISH
BEGIN:VEVENT
UID:69eb43a0e4564
DTSTAMP:20260424T101912Z
DTSTART:20191005
DTEND:20191006
LOCATION:
SUMMARY:Calgary Group 19 Integrative Chakra Therapy Levels 14 and 15
DESCRIPTION:Calgary students will be studying level 14 Shushumna and level
  15 Activation Prayer. The Shushumna - The main column of light that radiat
 es up and down through the spinal colum\,  through the lenses of the chakra
 s\,  is called the Shushumna.  In this workshop\,  you will learn about th
 e Shushumna\,  how it[..]\nhttps://lightnews.org/events/calgary-group-19-in
 tegrative-chakra-therapy-levels-14-and-15/
URL:https://lightnews.org/events/calgary-group-19-integrative-chakra-therapy-levels-14-and-15/
END:VEVENT
END:VCALENDAR