BEGIN:VCALENDAR
VERSION:2.0
PRODID:-//eventon.com NONSGML v1.0//EN
CALSCALE:GREGORIAN
METHOD:PUBLISH
BEGIN:VEVENT
UID:69eb6d8e0759b
DTSTAMP:20260424T131806Z
DTSTART:20200111
DTEND:20200112
LOCATION:
SUMMARY:Calgary Group 19 Integrative Chakra Therapy Levels 16 and 17
DESCRIPTION:Calgary students will be studying level 16 Soul Infusion Techni
 que and level 17 Mediumship and Channeling. 16. Soul Infusion Technique - W
 hen healers are spiritually ready\,  they will infuse a little of their sou
 l quality into their personality. This workshop discusses the philosophy be
 hind this way of looking at our[..]\nhttps://lightnews.org/events/calgary-g
 roup-19-integrative-chakra-therapy-levels-16-and-17/
URL:https://lightnews.org/events/calgary-group-19-integrative-chakra-therapy-levels-16-and-17/
END:VEVENT
END:VCALENDAR