BEGIN:VCALENDAR
VERSION:2.0
PRODID:-//eventon.com NONSGML v1.0//EN
CALSCALE:GREGORIAN
METHOD:PUBLISH
BEGIN:VEVENT
UID:69eb85a7a8b27
DTSTAMP:20260424T150055Z
DTSTART:20191214
DTEND:20191215
LOCATION:
SUMMARY:Calgary Integrative Chakra Therapy Training Group 18 Level 18 - GRADUATION
DESCRIPTION:Calgary students will be studying level 18 Karma and Reincarnat
 ion. Karma & Reincarnation - We are the accumulation of many lifetimes\,  a
 nd their effects are locked into our four archetypical energies: mental\,  
 physical\,  emotional\,  and spiritual. We emanate the characteristics of o
 ur past life influences on many levels affecting our[..]\nhttps://lightnews
 .org/events/calgary-integrative-chakra-therapy-training-group-18-level-18-g
 raduation/
URL:https://lightnews.org/events/calgary-integrative-chakra-therapy-training-group-18-level-18-graduation/
END:VEVENT
END:VCALENDAR