BEGIN:VCALENDAR
VERSION:2.0
PRODID:-//eventon.com NONSGML v1.0//EN
CALSCALE:GREGORIAN
METHOD:PUBLISH
BEGIN:VEVENT
UID:69ebb378a9e56
DTSTAMP:20260424T181624Z
DTSTART:20170717T183000Z
DTEND:20170717T213000Z
LOCATION:
SUMMARY:Intuitive Flower Readings at Healing Therapies\,  La Mesa
DESCRIPTION:What is a Flower Reading? The purpose of a Flower Reading is to
  show your true spiritual nature to you – that you really are an amazing 
 luminous being of light… that you are far more than just the mental and p
 hysical presence of your body. The information Dr. Jelusich[..]\nhttps://li
 ghtnews.org/events/intuitive-flower-readings-at-healing-therapies-la-mesa/
URL:https://lightnews.org/events/intuitive-flower-readings-at-healing-therapies-la-mesa/
END:VEVENT
END:VCALENDAR