BEGIN:VCALENDAR
VERSION:2.0
PRODID:-//eventon.com NONSGML v1.0//EN
CALSCALE:GREGORIAN
METHOD:PUBLISH
BEGIN:VEVENT
UID:69ebca46b244a
DTSTAMP:20260424T195342Z
DTSTART:20170801
DTEND:20170802
LOCATION:
SUMMARY:Join Dr. Jelusich in San Diego August 1 - 9th
DESCRIPTION:Dr. Jelusich will be in San Diego – booking Private Session
 s\,  hosting Flower Readings. Call or email to book your event. Remember Dr
 . Jelusich offers FREE events to various schools\,  centers and studios thr
 ough out the San Diego area on Metaphysics and Spiritual Awakening.\nhttps:
 //lightnews.org/events/join-dr-jelusich-in-san-diego-august-1-9th/
URL:https://lightnews.org/events/join-dr-jelusich-in-san-diego-august-1-9th/
END:VEVENT
END:VCALENDAR