BEGIN:VCALENDAR
VERSION:2.0
PRODID:-//eventon.com NONSGML v1.0//EN
CALSCALE:GREGORIAN
METHOD:PUBLISH
BEGIN:VEVENT
UID:69ebe4185b33b
DTSTAMP:20260424T214352Z
DTSTART:20170811
DTEND:20170812
LOCATION:
SUMMARY:Hey Dr. J is on a Holiday!! August 11th through 14th
DESCRIPTION:Dr. JelusichÂ is currently on a holiday but Deirdre is stillÂ Â
  booking Private SessionsÂ &Â Flower Readings. Call or email to book your e
 vent. Remember Dr. Jelusich can offerÂ FREE events to various schools\,  ce
 nters and studios through out yourÂ area on Metaphysics and Spiritual Awake
 ning.\nhttps://lightnews.org/events/hey-dr-j-is-on-a-holiday-august-11th-th
 rough-14th/
URL:https://lightnews.org/events/hey-dr-j-is-on-a-holiday-august-11th-through-14th/
END:VEVENT
END:VCALENDAR