BEGIN:VCALENDAR
VERSION:2.0
PRODID:-//eventon.com NONSGML v1.0//EN
CALSCALE:GREGORIAN
METHOD:PUBLISH
BEGIN:VEVENT
UID:69ec134c51dd7
DTSTAMP:20260425T010516Z
DTSTART:20170905
DTEND:20170906
LOCATION:
SUMMARY:Join Dr. Jelusich in San Diego September 5th through 28th
DESCRIPTION:Dr. Jelusich will be in San Diego – booking Private Session
 s\,  hosting Flower Readings. Call or email to book your event. Remember Dr
 . Jelusich offers FREE events to various schools\,  centers and studios thr
 oughout the San Diego area on Metaphysics and Spiritual Awakening.\nhttps:/
 /lightnews.org/events/join-dr-jelusich-in-san-diego-september-5th-through-2
 8th/
URL:https://lightnews.org/events/join-dr-jelusich-in-san-diego-september-5th-through-28th/
END:VEVENT
END:VCALENDAR