BEGIN:VCALENDAR
VERSION:2.0
PRODID:-//eventon.com NONSGML v1.0//EN
CALSCALE:GREGORIAN
METHOD:PUBLISH
BEGIN:VEVENT
UID:69ec2c9d13146
DTSTAMP:20260425T025317Z
DTSTART:20170929
DTEND:20170930
LOCATION:
SUMMARY:Join Dr. Jelusich in Calgary September 29th to October 23rd
DESCRIPTION:Dr. Jelusich will be in Calgary – booking Private Sessions\
 ,  hosting Flower Readings. Call or email to book your event. Remember Dr. 
 Jelusich offers FREE events to various schools\,  centers and studios throu
 ghout the Calgary area on Metaphysics and Spiritual Awakening.\nhttps://lig
 htnews.org/events/join-dr-jelusich-in-calgary-september-29th-to-october-23r
 d/
URL:https://lightnews.org/events/join-dr-jelusich-in-calgary-september-29th-to-october-23rd/
END:VEVENT
END:VCALENDAR