BEGIN:VCALENDAR
VERSION:2.0
PRODID:-//eventon.com NONSGML v1.0//EN
CALSCALE:GREGORIAN
METHOD:PUBLISH
BEGIN:VEVENT
UID:69eca59ccbcca
DTSTAMP:20260425T112932Z
DTSTART:20170912T183000Z
DTEND:20170912T213000Z
LOCATION:
SUMMARY:Intuitive Flower Readings at Healing Therapies\,  La Mesa September 12th
DESCRIPTION:What is a Flower Reading? The purpose of a Flower Reading is to
  show your true spiritual nature to you – that you really are an amazing 
 luminous being of light… that you are far more than just the mental and p
 hysical presence of your body. The information Dr. Jelusich[..]\nhttps://li
 ghtnews.org/events/intuitive-flower-readings-at-healing-therapies-la-mesa-s
 eptember-12th/
URL:https://lightnews.org/events/intuitive-flower-readings-at-healing-therapies-la-mesa-september-12th/
END:VEVENT
END:VCALENDAR