BEGIN:VCALENDAR
VERSION:2.0
PRODID:-//eventon.com NONSGML v1.0//EN
CALSCALE:GREGORIAN
METHOD:PUBLISH
BEGIN:VEVENT
UID:69ecbef2173a8
DTSTAMP:20260425T131738Z
DTSTART:20170919T183000Z
DTEND:20170919T193000Z
LOCATION:
SUMMARY:Light up Your Life and Relationships\,  Healing Therapies Sept 19th
DESCRIPTION:Gift yourself with energetic knowledge for improving your life\
 ,  and all your relationships. Your Chakras are you on a higher\,  spiritua
 l level. Learn how your Chakras lead you to intuitively choose (or have cho
 sen) the people in your life to help you develop spiritually through resolv
 ing and releasing your karma. [..]\nhttps://lightnews.org/events/light-up-
 your-life-and-relationships-healing-therapies-sept-19th/
URL:https://lightnews.org/events/light-up-your-life-and-relationships-healing-therapies-sept-19th/
END:VEVENT
END:VCALENDAR