BEGIN:VCALENDAR
VERSION:2.0
PRODID:-//eventon.com NONSGML v1.0//EN
CALSCALE:GREGORIAN
METHOD:PUBLISH
BEGIN:VEVENT
UID:69ecd9ba326a8
DTSTAMP:20260425T151154Z
DTSTART:20170901T190000Z
DTEND:20170901T220000Z
LOCATION:
SUMMARY:Intuitive Flower Readings at Universal Church of the Master San Jose
DESCRIPTION:What is a Flower Reading? The purpose of a Flower Reading is to
  show your true spiritual nature to you – that you really are an amazing 
 luminous being of light… that you are far more than just the mental and p
 hysical presence of your body. The information Dr. Jelusich[..]\nhttps://li
 ghtnews.org/events/intuitive-flower-readings-at-universal-church-of-the-mas
 ter-san-jose/
URL:https://lightnews.org/events/intuitive-flower-readings-at-universal-church-of-the-master-san-jose/
END:VEVENT
END:VCALENDAR