BEGIN:VCALENDAR
VERSION:2.0
PRODID:-//eventon.com NONSGML v1.0//EN
CALSCALE:GREGORIAN
METHOD:PUBLISH
BEGIN:VEVENT
UID:69ed2c1e5b54f
DTSTAMP:20260425T210326Z
DTSTART:20171002T190000Z
DTEND:20171002T220000Z
LOCATION:
SUMMARY:Past Life Karma and Reincarnation Lecture/Readings Calgary
DESCRIPTION:Past Life Karma and Reincarnation workshops help you realize th
 at you are the accumulation of many lifetimes\,  and those lifetimes’ aff
 ects and attachments are locked into your four archetypes: mental\,  physic
 al\,  emotional and spiritual. WHY A PAST LIFE READING? Remembering a past 
 life enables you to understand who you are[..]\nhttps://lightnews.org/event
 s/past-life-karma-and-reincarnation-lecturereadings-calgary/
URL:https://lightnews.org/events/past-life-karma-and-reincarnation-lecturereadings-calgary/
END:VEVENT
END:VCALENDAR