BEGIN:VCALENDAR
VERSION:2.0
PRODID:-//eventon.com NONSGML v1.0//EN
CALSCALE:GREGORIAN
METHOD:PUBLISH
BEGIN:VEVENT
UID:69ed3f1a21439
DTSTAMP:20260425T222426Z
DTSTART:20171005T183000Z
DTEND:20171005T213000Z
LOCATION:
SUMMARY:“The Wheels of Life” Discussion on the Chakras
DESCRIPTION:Healing Therapies welcomes Dr. Richard Jelusich “The Wheels o
 f Life” Discussion on the Chakras In the understanding of our true metaph
 ysical nature\,  one of the most difficult aspects of our reality is the pa
 radox of our being as pure spirit and as material beings. But another equal
 ly challenging aspect is[..]\nhttps://lightnews.org/events/the-wheels-of-li
 fe-discussion-on-the-chakras/
URL:https://lightnews.org/events/the-wheels-of-life-discussion-on-the-chakras/
END:VEVENT
END:VCALENDAR