BEGIN:VCALENDAR
VERSION:2.0
PRODID:-//eventon.com NONSGML v1.0//EN
CALSCALE:GREGORIAN
METHOD:PUBLISH
BEGIN:VEVENT
UID:69ed6a1bc03a8
DTSTAMP:20260426T012755Z
DTSTART:20171010T183000Z
DTEND:20171010T213000Z
LOCATION:
SUMMARY:October 10th 6:30 pm Past Life Karma and Reincarnation Lecture/Readings
DESCRIPTION:Past Life Karma and Reincarnation workshops help you realize th
 at you are the accumulation of many lifetimes\,  and those lifetimes’ aff
 ects and attachments are locked into your four archetypes: mental\,  physic
 al\,  emotional and spiritual. WHY A PAST LIFE READING? Remembering a past 
 life enables you to understand who you are[..]\nhttps://lightnews.org/event
 s/october-10th-630-pm-past-life-karma-and-reincarnation-lecturereadings/
URL:https://lightnews.org/events/october-10th-630-pm-past-life-karma-and-reincarnation-lecturereadings/
END:VEVENT
END:VCALENDAR