BEGIN:VCALENDAR
VERSION:2.0
PRODID:-//eventon.com NONSGML v1.0//EN
CALSCALE:GREGORIAN
METHOD:PUBLISH
BEGIN:VEVENT
UID:69ed6c2f5bf8b
DTSTAMP:20260426T013647Z
DTSTART:20171011T191500Z
DTEND:20171011T221500Z
LOCATION:
SUMMARY:Walking Through the Chakras: the discussions continue
DESCRIPTION:Join us for this informative evening as Dr. J walks you through
  the chakras\,  one-by-one\,  discussing each as conscious centers of aware
 ness and the conduits of higher states of awareness. Most important for the
 se times are the tools you can use to balance and awaken your inner spiritu
 al power. This[..]\nhttps://lightnews.org/events/walking-through-the-chakra
 s-the-discussions-continue/
URL:https://lightnews.org/events/walking-through-the-chakras-the-discussions-continue/
END:VEVENT
END:VCALENDAR