BEGIN:VCALENDAR
VERSION:2.0
PRODID:-//eventon.com NONSGML v1.0//EN
CALSCALE:GREGORIAN
METHOD:PUBLISH
BEGIN:VEVENT
UID:69ed7f0f8fa37
DTSTAMP:20260426T025719Z
DTSTART:20171018T190000Z
DTEND:20171018T220000Z
LOCATION:
SUMMARY:Intuitive Flower Readings at Tara Healing Center October 18th
DESCRIPTION:What is a Flower Reading? The purpose of a Flower Reading is to
  show your true spiritual nature to you – that you really are an amazing 
 luminous being of light… that you are far more than just the mental and p
 hysical presence of your body. The information Dr. Jelusich[..]\nhttps://li
 ghtnews.org/events/intuitive-flower-readings-at-tara-healing-center-october
 -18th/
URL:https://lightnews.org/events/intuitive-flower-readings-at-tara-healing-center-october-18th/
END:VEVENT
END:VCALENDAR