BEGIN:VCALENDAR
VERSION:2.0
PRODID:-//eventon.com NONSGML v1.0//EN
CALSCALE:GREGORIAN
METHOD:PUBLISH
BEGIN:VEVENT
UID:69ed90c55b57d
DTSTAMP:20260426T041253Z
DTSTART:20171020T170000Z
DTEND:20171022T170000Z
LOCATION:
SUMMARY:Body Soul Spirit Expo! Calgary
DESCRIPTION:Join Northern Light News at the BBS EXPO October 20th to 22nd a
 nd See Dr. Jelusich Live! Where: Grey Eagle Casino  More Information: Body
  Soul & Spirit Expo Find Tickets Here: TICKETS Lectures: Friday October 20t
 h 6:00 PM Hitting the Reset Button: Self Empowerment and Inner Growth In hi
 s Keynote\, [..]\nhttps://lightnews.org/events/body-soul-spirit-expo-calgar
 y/
URL:https://lightnews.org/events/body-soul-spirit-expo-calgary/
END:VEVENT
END:VCALENDAR